BEGIN:VCALENDAR
VERSION:2.0
PRODID:icalendar-ruby
CALSCALE:GREGORIAN
METHOD:PUBLISH
BEGIN:VEVENT
DTSTAMP:20260423T113700Z
UID:5-394751@munfordvillebaptist.org
DTSTART:20261018T150000Z
DTEND:20261018T160000Z
CLASS:PUBLIC
CREATED:20260422T215056
DESCRIPTION:Sunday Worship
LAST-MODIFIED:20260422T215056
LOCATION:
SUMMARY:Sunday Worship
URL;VALUE=URI:https://munfordvillebaptist.org/events/sunday-worship/2026-10
 -18
END:VEVENT
END:VCALENDAR
